BEGIN:VCALENDAR
VERSION:2.0
PRODID:icalendar-ruby
CALSCALE:GREGORIAN
METHOD:PUBLISH
BEGIN:VEVENT
DTSTAMP:20260419T143253Z
UID:9-523168@arkofcov.org
DTSTART:20260814T021500Z
DTEND:20260814T031500Z
CLASS:PUBLIC
CREATED:20260419T063810
DESCRIPTION:Join Min Clayton Anderson every Thursday Night at 8:15pm CST. 
LAST-MODIFIED:20260419T063810
LOCATION:Youtube & Facebook - Lookup Clayton Anderson
SUMMARY:Life Altared 
URL;VALUE=URI:https://www.arkofcov.org/events/life-altared/2026-08-13
ATTACH;FILENAME=Untitled-%28YouTube-Thumbnail%29.png.png;FMTTYPE=image/png:
 https://dq5pwpg1q8ru0.cloudfront.net/2025/04/06/18/32/02/4dc3d49a-349a-46e
 9-a698-e975ab2f6452/Untitled-%2528YouTube-Thumbnail%2529.png.png
END:VEVENT
END:VCALENDAR
